BEGIN:VCALENDAR
VERSION:2.0
PRODID:-//Flow Sphere - ECPv6.15.13.1//NONSGML v1.0//EN
CALSCALE:GREGORIAN
METHOD:PUBLISH
X-WR-CALNAME:Flow Sphere
X-ORIGINAL-URL:https://www.flowsphere.ch/de/
X-WR-CALDESC:Veranstaltungen für Flow Sphere
REFRESH-INTERVAL;VALUE=DURATION:PT1H
X-Robots-Tag:noindex
X-PUBLISHED-TTL:PT1H
BEGIN:VTIMEZONE
TZID:Europe/Berlin
BEGIN:DAYLIGHT
TZOFFSETFROM:+0100
TZOFFSETTO:+0200
TZNAME:CEST
DTSTART:20250330T010000
END:DAYLIGHT
BEGIN:STANDARD
TZOFFSETFROM:+0200
TZOFFSETTO:+0100
TZNAME:CET
DTSTART:20251026T010000
END:STANDARD
BEGIN:DAYLIGHT
TZOFFSETFROM:+0100
TZOFFSETTO:+0200
TZNAME:CEST
DTSTART:20260329T010000
END:DAYLIGHT
BEGIN:STANDARD
TZOFFSETFROM:+0200
TZOFFSETTO:+0100
TZNAME:CET
DTSTART:20261025T010000
END:STANDARD
BEGIN:DAYLIGHT
TZOFFSETFROM:+0100
TZOFFSETTO:+0200
TZNAME:CEST
DTSTART:20270328T010000
END:DAYLIGHT
BEGIN:STANDARD
TZOFFSETFROM:+0200
TZOFFSETTO:+0100
TZNAME:CET
DTSTART:20271031T010000
END:STANDARD
END:VTIMEZONE
BEGIN:VTIMEZONE
TZID:Europe/Zurich
BEGIN:DAYLIGHT
TZOFFSETFROM:+0100
TZOFFSETTO:+0200
TZNAME:CEST
DTSTART:20250330T010000
END:DAYLIGHT
BEGIN:STANDARD
TZOFFSETFROM:+0200
TZOFFSETTO:+0100
TZNAME:CET
DTSTART:20251026T010000
END:STANDARD
BEGIN:DAYLIGHT
TZOFFSETFROM:+0100
TZOFFSETTO:+0200
TZNAME:CEST
DTSTART:20260329T010000
END:DAYLIGHT
BEGIN:STANDARD
TZOFFSETFROM:+0200
TZOFFSETTO:+0100
TZNAME:CET
DTSTART:20261025T010000
END:STANDARD
BEGIN:DAYLIGHT
TZOFFSETFROM:+0100
TZOFFSETTO:+0200
TZNAME:CEST
DTSTART:20270328T010000
END:DAYLIGHT
BEGIN:STANDARD
TZOFFSETFROM:+0200
TZOFFSETTO:+0100
TZNAME:CET
DTSTART:20271031T010000
END:STANDARD
END:VTIMEZONE
BEGIN:VEVENT
DTSTART;TZID=Europe/Berlin:20260420T083000
DTEND;TZID=Europe/Berlin:20260421T170000
DTSTAMP:20260421T121127
CREATED:20240923T122837Z
LAST-MODIFIED:20260408T081958Z
UID:10001454-1776673800-1776790800@www.flowsphere.ch
SUMMARY:Product Owner / -Manager (POPM)
DESCRIPTION:Product Owner /​‑Manager (<span class="caps">POPM</span>)\n\nTrainer: Frederik Zimmermann SPCT-C\n\nZeige vollständige Veranstaltungsbeschreibung hier an:\nhttps://www.flowsphere.ch/de/event/safe-popm-20260420/
URL:https://www.flowsphere.ch/de/event/safe-popm-20260420/
LOCATION:Online Remote Training
CATEGORIES:Event Language,Event Language German,POPM Remote,Remote-Trainings
ATTACH;FMTTYPE=image/png:https://www.flowsphere.ch/wp-content/uploads/2024/03/Frederikl_Zimmermann_FS-Transp-Bg-LQ.png
ORGANIZER;CN="Flow Sphere":MAILTO:academy@flowsphere.ch
END:VEVENT
BEGIN:VEVENT
DTSTART;TZID=Europe/Berlin:20260504T083000
DTEND;TZID=Europe/Berlin:20260507T170000
DTSTAMP:20260421T121127
CREATED:20251023T114840Z
LAST-MODIFIED:20260302T150911Z
UID:10001504-1777883400-1778173200@www.flowsphere.ch
SUMMARY:Implementing SAFe (SPC)
DESCRIPTION:Implementing SAFe (<span class="caps">SPC</span>)\n\nTrainer: Stephan Neck SPCT Co-Trainer: Frederik Zimmermann SPC\n\nZeige vollständige Veranstaltungsbeschreibung hier an:\nhttps://www.flowsphere.ch/de/event/implementing-safe-training-20260504/
URL:https://www.flowsphere.ch/de/event/implementing-safe-training-20260504/
LOCATION:Online Remote Training
CATEGORIES:Event Featured Image large size,Event Language,Event Language German,Remote-Trainings,SPC Remote
ATTACH;FMTTYPE=image/png:https://www.flowsphere.ch/wp-content/uploads/2024/09/Stephan_Frederik_Transp-Bg-LQ.png
ORGANIZER;CN="Flow Sphere":MAILTO:academy@flowsphere.ch
END:VEVENT
BEGIN:VEVENT
DTSTART;TZID=Europe/Zurich:20260511T083000
DTEND;TZID=Europe/Zurich:20260512T170000
DTSTAMP:20260421T121127
CREATED:20241111T123754Z
LAST-MODIFIED:20260302T153933Z
UID:10001482-1778488200-1778605200@www.flowsphere.ch
SUMMARY:SAFe for Hardware (SHWA)
DESCRIPTION:SAFe for Hardware (<span class="caps">SHWA</span>)\n\nTrainer: Frederik Zimmermann SPCT-C\n\nZeige vollständige Veranstaltungsbeschreibung hier an:\nhttps://www.flowsphere.ch/de/event/safe-for-hardware-training-20260511/
URL:https://www.flowsphere.ch/de/event/safe-for-hardware-training-20260511/
LOCATION:Online Remote Training
CATEGORIES:Event Language,Event Language German,Remote-Trainings,SH Remote
ATTACH;FMTTYPE=image/png:https://www.flowsphere.ch/wp-content/uploads/2024/03/Frederikl_Zimmermann_FS-Transp-Bg-LQ.png
ORGANIZER;CN="Flow Sphere":MAILTO:academy@flowsphere.ch
END:VEVENT
BEGIN:VEVENT
DTSTART;TZID=Europe/Berlin:20260601T080000
DTEND;TZID=Europe/Berlin:20260608T170000
DTSTAMP:20260421T121127
CREATED:20251024T105752Z
LAST-MODIFIED:20260213T093608Z
UID:10001520-1780300800-1780938000@www.flowsphere.ch
SUMMARY:Advanced SPC (ASPC)
DESCRIPTION:Advanced <span class="caps">SPC</span> (<span class="caps">ASPC</span>)\n\nTrainer: Stephan Neck SPCT\n\nZeige vollständige Veranstaltungsbeschreibung hier an:\nhttps://www.flowsphere.ch/de/event/advanced-safe-practice-consultant-20260601/
URL:https://www.flowsphere.ch/de/event/advanced-safe-practice-consultant-20260601/
LOCATION:Online Remote Training
CATEGORIES:ASPC Remote,Event Language,Event Language German,Remote-Trainings
ATTACH;FMTTYPE=image/png:https://www.flowsphere.ch/wp-content/uploads/2024/01/Stephan_Neck_Transp-Bg-LQ.png
ORGANIZER;CN="Flow Sphere":MAILTO:academy@flowsphere.ch
END:VEVENT
BEGIN:VEVENT
DTSTART;TZID=Europe/Zurich:20260601T083000
DTEND;TZID=Europe/Zurich:20260603T170000
DTSTAMP:20260421T121128
CREATED:20251023T144714Z
LAST-MODIFIED:20260320T145029Z
UID:10001510-1780302600-1780506000@www.flowsphere.ch
SUMMARY:SAFe for Architects (ARCH)
DESCRIPTION:SAFe for Architects (<span class="caps">ARCH</span>)\n\nTrainer: Frederik Zimmermann SPCT-C\n\nZeige vollständige Veranstaltungsbeschreibung hier an:\nhttps://www.flowsphere.ch/de/event/safe-architect-training-20260601/
URL:https://www.flowsphere.ch/de/event/safe-architect-training-20260601/
LOCATION:Online Remote Training
CATEGORIES:ARCH Remote,Event Language,Event Language German,Remote-Trainings
ATTACH;FMTTYPE=image/png:https://www.flowsphere.ch/wp-content/uploads/2024/03/Frederikl_Zimmermann_FS-Transp-Bg-LQ.png
ORGANIZER;CN="Flow Sphere":MAILTO:academy@flowsphere.ch
END:VEVENT
BEGIN:VEVENT
DTSTART;TZID=Europe/Zurich:20260608T083000
DTEND;TZID=Europe/Zurich:20260609T170000
DTSTAMP:20260421T121128
CREATED:20251023T102437Z
LAST-MODIFIED:20260302T154027Z
UID:10001499-1780907400-1781024400@www.flowsphere.ch
SUMMARY:Lean Portfolio Management (LPM)
DESCRIPTION:Lean Portfolio Management (<span class="caps">LPM</span>)\n\nTrainer: Sacha Czudek SPCT\n\nZeige vollständige Veranstaltungsbeschreibung hier an:\nhttps://www.flowsphere.ch/de/event/lean-portfolio-management-training-20260608/
URL:https://www.flowsphere.ch/de/event/lean-portfolio-management-training-20260608/
LOCATION:Online Remote Training
CATEGORIES:Event Language,Event Language German,LPM Remote,Remote-Trainings
ATTACH;FMTTYPE=image/png:https://www.flowsphere.ch/wp-content/uploads/2024/01/Sacha_Czudek_Transp-4-Bg-LQ.png
ORGANIZER;CN="Flow Sphere":MAILTO:academy@flowsphere.ch
END:VEVENT
BEGIN:VEVENT
DTSTART;TZID=Europe/Berlin:20260615T083000
DTEND;TZID=Europe/Berlin:20260617T170000
DTSTAMP:20260421T121128
CREATED:20251023T095608Z
LAST-MODIFIED:20260302T151559Z
UID:10001496-1781512200-1781715600@www.flowsphere.ch
SUMMARY:Release Train Engineer (RTE)
DESCRIPTION:Release Train Engineer (<span class="caps">RTE</span>)\n\nTrainer: Sacha Czudek SPCT\n\nZeige vollständige Veranstaltungsbeschreibung hier an:\nhttps://www.flowsphere.ch/de/event/safe-release-train-engineer-20260615/
URL:https://www.flowsphere.ch/de/event/safe-release-train-engineer-20260615/
LOCATION:Online Remote Training
CATEGORIES:Event Language,Event Language German,Remote-Trainings,RTE Remote
ATTACH;FMTTYPE=image/png:https://www.flowsphere.ch/wp-content/uploads/2024/01/Sacha_Czudek_Transp-4-Bg-LQ.png
ORGANIZER;CN="Flow Sphere":MAILTO:academy@flowsphere.ch
END:VEVENT
BEGIN:VEVENT
DTSTART;TZID=Europe/Berlin:20260622T083000
DTEND;TZID=Europe/Berlin:20260625T170000
DTSTAMP:20260421T121128
CREATED:20251023T123047Z
LAST-MODIFIED:20260302T151019Z
UID:10001505-1782117000-1782406800@www.flowsphere.ch
SUMMARY:Implementing SAFe (SPC)
DESCRIPTION:Implementing SAFe (<span class="caps">SPC</span>)\n\nTrainer: Stephan Neck SPCT Co-Trainer: Frederik Zimmermann SPC\n\nZeige vollständige Veranstaltungsbeschreibung hier an:\nhttps://www.flowsphere.ch/de/event/implementing-safe-training-20260622/
URL:https://www.flowsphere.ch/de/event/implementing-safe-training-20260622/
LOCATION:Online Remote Training
CATEGORIES:Event Featured Image large size,Event Language,Event Language German,Remote-Trainings,SPC Remote
ATTACH;FMTTYPE=image/png:https://www.flowsphere.ch/wp-content/uploads/2024/09/Stephan_Frederik_Transp-Bg-LQ.png
ORGANIZER;CN="Flow Sphere":MAILTO:academy@flowsphere.ch
END:VEVENT
BEGIN:VEVENT
DTSTART;TZID=Europe/Berlin:20260629T083000
DTEND;TZID=Europe/Berlin:20260630T170000
DTSTAMP:20260421T121128
CREATED:20251023T165008Z
LAST-MODIFIED:20260413T120643Z
UID:10001516-1782721800-1782838800@www.flowsphere.ch
SUMMARY:Product Owner / -Manager (POPM)
DESCRIPTION:Product Owner /​‑Manager (<span class="caps">POPM</span>)\n\nTrainer: Frederik Zimmermann SPCT-C\n\nZeige vollständige Veranstaltungsbeschreibung hier an:\nhttps://www.flowsphere.ch/de/event/safe-popm-20260629/
URL:https://www.flowsphere.ch/de/event/safe-popm-20260629/
LOCATION:Online Remote Training
CATEGORIES:Event Language,Event Language German,POPM Remote,Remote-Trainings
ATTACH;FMTTYPE=image/png:https://www.flowsphere.ch/wp-content/uploads/2024/03/Frederikl_Zimmermann_FS-Transp-Bg-LQ.png
ORGANIZER;CN="Flow Sphere":MAILTO:academy@flowsphere.ch
END:VEVENT
BEGIN:VEVENT
DTSTART;TZID=Europe/Berlin:20260706T083000
DTEND;TZID=Europe/Berlin:20260707T170000
DTSTAMP:20260421T121128
CREATED:20251022T131712Z
LAST-MODIFIED:20260302T152112Z
UID:10001492-1783326600-1783443600@www.flowsphere.ch
SUMMARY:SAFe Scrum Master (SSM)
DESCRIPTION:SAFe Scrum Master (<span class="caps">SSM</span>)\n\nTrainer: Frederik Zimmermann SPCT-C\n\nZeige vollständige Veranstaltungsbeschreibung hier an:\nhttps://www.flowsphere.ch/de/event/safe-scrum-master-20260706/
URL:https://www.flowsphere.ch/de/event/safe-scrum-master-20260706/
LOCATION:Online Remote Training
CATEGORIES:Event Language,Event Language German,Remote-Trainings,SSM Remote
ATTACH;FMTTYPE=image/png:https://www.flowsphere.ch/wp-content/uploads/2024/03/Frederikl_Zimmermann_FS-Transp-Bg-LQ.png
ORGANIZER;CN="Flow Sphere":MAILTO:academy@flowsphere.ch
END:VEVENT
BEGIN:VEVENT
DTSTART;TZID=Europe/Berlin:20260810T080000
DTEND;TZID=Europe/Berlin:20260817T170000
DTSTAMP:20260421T121128
CREATED:20251024T112945Z
LAST-MODIFIED:20260213T093713Z
UID:10001521-1786348800-1786986000@www.flowsphere.ch
SUMMARY:Advanced SPC (ASPC)
DESCRIPTION:Advanced <span class="caps">SPC</span> (<span class="caps">ASPC</span>)\n\nTrainer: Sacha Czudek SPCT\n\nZeige vollständige Veranstaltungsbeschreibung hier an:\nhttps://www.flowsphere.ch/de/event/advanced-safe-practice-consultant-20260810/
URL:https://www.flowsphere.ch/de/event/advanced-safe-practice-consultant-20260810/
LOCATION:Online Remote Training
CATEGORIES:ASPC Remote,Event Language,Event Language German,Remote-Trainings
ATTACH;FMTTYPE=image/png:https://www.flowsphere.ch/wp-content/uploads/2024/01/Sacha_Czudek_Transp-4-Bg-LQ.png
ORGANIZER;CN="Flow Sphere":MAILTO:academy@flowsphere.ch
END:VEVENT
BEGIN:VEVENT
DTSTART;TZID=Europe/Berlin:20260817T083000
DTEND;TZID=Europe/Berlin:20260820T170000
DTSTAMP:20260421T121128
CREATED:20251023T124001Z
LAST-MODIFIED:20260302T151126Z
UID:10001506-1786955400-1787245200@www.flowsphere.ch
SUMMARY:Implementing SAFe (SPC)
DESCRIPTION:Implementing SAFe (<span class="caps">SPC</span>)\n\nTrainer: Stephan Neck SPCT Co-Trainer: Frederik Zimmermann SPC\n\nZeige vollständige Veranstaltungsbeschreibung hier an:\nhttps://www.flowsphere.ch/de/event/implementing-safe-training-20260817/
URL:https://www.flowsphere.ch/de/event/implementing-safe-training-20260817/
LOCATION:Online Remote Training
CATEGORIES:Event Featured Image large size,Event Language,Event Language German,Remote-Trainings,SPC Remote
ATTACH;FMTTYPE=image/png:https://www.flowsphere.ch/wp-content/uploads/2024/09/Stephan_Frederik_Transp-Bg-LQ.png
ORGANIZER;CN="Flow Sphere":MAILTO:academy@flowsphere.ch
END:VEVENT
BEGIN:VEVENT
DTSTART;TZID=Europe/Berlin:20260824T083000
DTEND;TZID=Europe/Berlin:20260826T170000
DTSTAMP:20260421T121128
CREATED:20251023T100314Z
LAST-MODIFIED:20260312T161442Z
UID:10001497-1787560200-1787763600@www.flowsphere.ch
SUMMARY:Release Train Engineer (RTE)
DESCRIPTION:Release Train Engineer (<span class="caps">RTE</span>)\n\nTrainer: Stephan Neck SPCT\n\nZeige vollständige Veranstaltungsbeschreibung hier an:\nhttps://www.flowsphere.ch/de/event/safe-release-train-engineer-20260831/
URL:https://www.flowsphere.ch/de/event/safe-release-train-engineer-20260831/
LOCATION:Online Remote Training
CATEGORIES:Event Language,Event Language German,Remote-Trainings,RTE Remote
ATTACH;FMTTYPE=image/png:https://www.flowsphere.ch/wp-content/uploads/2024/01/Stephan_Neck_Transp-Bg-LQ.png
ORGANIZER;CN="Flow Sphere":MAILTO:academy@flowsphere.ch
END:VEVENT
BEGIN:VEVENT
DTSTART;TZID=Europe/Zurich:20260831T083000
DTEND;TZID=Europe/Zurich:20260902T170000
DTSTAMP:20260421T121128
CREATED:20251023T150717Z
LAST-MODIFIED:20260312T162852Z
UID:10001511-1788165000-1788368400@www.flowsphere.ch
SUMMARY:SAFe for Architects (ARCH)
DESCRIPTION:SAFe for Architects (<span class="caps">ARCH</span>)\n\nTrainer: Stephan Neck SPCT\n\nZeige vollständige Veranstaltungsbeschreibung hier an:\nhttps://www.flowsphere.ch/de/event/safe-architect-training-20260824/
URL:https://www.flowsphere.ch/de/event/safe-architect-training-20260824/
LOCATION:Online Remote Training
CATEGORIES:ARCH Remote,Event Language,Event Language German,Remote-Trainings
ATTACH;FMTTYPE=image/png:https://www.flowsphere.ch/wp-content/uploads/2024/01/Stephan_Neck_Transp-Bg-LQ.png
ORGANIZER;CN="Flow Sphere":MAILTO:academy@flowsphere.ch
END:VEVENT
BEGIN:VEVENT
DTSTART;TZID=Europe/Berlin:20260907T083000
DTEND;TZID=Europe/Berlin:20260908T170000
DTSTAMP:20260421T121128
CREATED:20251023T165719Z
LAST-MODIFIED:20260302T152630Z
UID:10001517-1788769800-1788886800@www.flowsphere.ch
SUMMARY:Product Owner / -Manager (POPM)
DESCRIPTION:Product Owner /​‑Manager (<span class="caps">POPM</span>)\n\nTrainer: Sacha Czudek SPCT\n\nZeige vollständige Veranstaltungsbeschreibung hier an:\nhttps://www.flowsphere.ch/de/event/safe-popm-20260907/
URL:https://www.flowsphere.ch/de/event/safe-popm-20260907/
LOCATION:Online Remote Training
CATEGORIES:Event Language,Event Language German,POPM Remote,Remote-Trainings
ATTACH;FMTTYPE=image/png:https://www.flowsphere.ch/wp-content/uploads/2024/01/Sacha_Czudek_Transp-4-Bg-LQ.png
ORGANIZER;CN="Flow Sphere":MAILTO:academy@flowsphere.ch
END:VEVENT
BEGIN:VEVENT
DTSTART;TZID=Europe/Zurich:20260914T083000
DTEND;TZID=Europe/Zurich:20260916T170000
DTSTAMP:20260421T121128
CREATED:20251023T110517Z
LAST-MODIFIED:20251212T132612Z
UID:10001502-1789374600-1789578000@www.flowsphere.ch
SUMMARY:Agile Product Management (APM 6.0)
DESCRIPTION:Agile Product Management (<span class="caps">APM</span> 6.0)\n\nTrainer: Frederik Zimmermann SPC\n\nZeige vollständige Veranstaltungsbeschreibung hier an:\nhttps://www.flowsphere.ch/de/event/agile-product-management-training-20260914/
URL:https://www.flowsphere.ch/de/event/agile-product-management-training-20260914/
LOCATION:Online Remote Training
CATEGORIES:APM Remote,Event Language,Event Language German,Remote-Trainings
ATTACH;FMTTYPE=image/png:https://www.flowsphere.ch/wp-content/uploads/2024/03/Frederikl_Zimmermann_FS-Transp-Bg-LQ.png
ORGANIZER;CN="Flow Sphere":MAILTO:academy@flowsphere.ch
END:VEVENT
BEGIN:VEVENT
DTSTART;TZID=Europe/Berlin:20260921T083000
DTEND;TZID=Europe/Berlin:20260922T170000
DTSTAMP:20260421T121128
CREATED:20251022T132325Z
LAST-MODIFIED:20260302T152206Z
UID:10001493-1789979400-1790096400@www.flowsphere.ch
SUMMARY:SAFe Scrum Master (SSM)
DESCRIPTION:SAFe Scrum Master (<span class="caps">SSM</span>)\n\nTrainer: Sacha Czudek SPCT\n\nZeige vollständige Veranstaltungsbeschreibung hier an:\nhttps://www.flowsphere.ch/de/event/safe-scrum-master-20260921/
URL:https://www.flowsphere.ch/de/event/safe-scrum-master-20260921/
LOCATION:Online Remote Training
CATEGORIES:Event Language,Event Language German,Remote-Trainings,SSM Remote
ATTACH;FMTTYPE=image/png:https://www.flowsphere.ch/wp-content/uploads/2024/01/Sacha_Czudek_Transp-4-Bg-LQ.png
ORGANIZER;CN="Flow Sphere":MAILTO:academy@flowsphere.ch
END:VEVENT
BEGIN:VEVENT
DTSTART;TZID=Europe/Zurich:20260928T083000
DTEND;TZID=Europe/Zurich:20260929T170000
DTSTAMP:20260421T121128
CREATED:20251023T154751Z
LAST-MODIFIED:20260413T142217Z
UID:10001514-1790584200-1790701200@www.flowsphere.ch
SUMMARY:Leading SAFe (SA)
DESCRIPTION:Leading SAFe (<span class="caps">SA</span>)\n\nTrainer: Frederik Zimmermann SPCT-C\n\nZeige vollständige Veranstaltungsbeschreibung hier an:\nhttps://www.flowsphere.ch/de/event/leading-safe-20260928/
URL:https://www.flowsphere.ch/de/event/leading-safe-20260928/
LOCATION:Online Remote Training
CATEGORIES:Event Language,Event Language German,Remote-Trainings,SA Remote
ATTACH;FMTTYPE=image/png:https://www.flowsphere.ch/wp-content/uploads/2024/03/Frederikl_Zimmermann_FS-Transp-Bg-LQ.png
ORGANIZER;CN="Flow Sphere":MAILTO:academy@flowsphere.ch
END:VEVENT
BEGIN:VEVENT
DTSTART;TZID=Europe/Berlin:20261012T083000
DTEND;TZID=Europe/Berlin:20261015T170000
DTSTAMP:20260421T121128
CREATED:20251023T124721Z
LAST-MODIFIED:20260302T151227Z
UID:10001507-1791793800-1792083600@www.flowsphere.ch
SUMMARY:Implementing SAFe (SPC)
DESCRIPTION:Implementing SAFe (<span class="caps">SPC</span>)\n\nTrainer: Sacha Czudek SPCT Co-Trainer: Frederik Zimmermann SPC\n\nZeige vollständige Veranstaltungsbeschreibung hier an:\nhttps://www.flowsphere.ch/de/event/implementing-safe-training-20261012/
URL:https://www.flowsphere.ch/de/event/implementing-safe-training-20261012/
LOCATION:Online Remote Training
CATEGORIES:Event Featured Image large size,Event Language,Event Language German,Remote-Trainings,SPC Remote
ATTACH;FMTTYPE=image/png:https://www.flowsphere.ch/wp-content/uploads/2024/09/Sacha_Frederik_Transp-Bg-1-LQ.png
ORGANIZER;CN="Flow Sphere":MAILTO:academy@flowsphere.ch
END:VEVENT
BEGIN:VEVENT
DTSTART;TZID=Europe/Zurich:20261019T083000
DTEND;TZID=Europe/Zurich:20261021T170000
DTSTAMP:20260421T121128
CREATED:20251023T151426Z
LAST-MODIFIED:20260312T163319Z
UID:10001512-1792398600-1792602000@www.flowsphere.ch
SUMMARY:SAFe for Architects (ARCH)
DESCRIPTION:SAFe for Architects (<span class="caps">ARCH</span>)\n\nTrainer: Stephan Neck SPTC\n\nZeige vollständige Veranstaltungsbeschreibung hier an:\nhttps://www.flowsphere.ch/de/event/safe-architect-training-20261116/
URL:https://www.flowsphere.ch/de/event/safe-architect-training-20261116/
LOCATION:Online Remote Training
CATEGORIES:ARCH Remote,Event Language,Event Language German,Remote-Trainings
ATTACH;FMTTYPE=image/png:https://www.flowsphere.ch/wp-content/uploads/2024/01/Stephan_Neck_Transp-Bg-LQ.png
ORGANIZER;CN="Flow Sphere":MAILTO:academy@flowsphere.ch
END:VEVENT
BEGIN:VEVENT
DTSTART;TZID=Europe/Berlin:20261026T080000
DTEND;TZID=Europe/Berlin:20261102T170000
DTSTAMP:20260421T121128
CREATED:20251024T113607Z
LAST-MODIFIED:20260213T093822Z
UID:10001522-1793001600-1793638800@www.flowsphere.ch
SUMMARY:Advanced SPC (ASPC)
DESCRIPTION:Advanced <span class="caps">SPC</span> (<span class="caps">ASPC</span>)\n\nTrainer: Stephan Neck SPCT\n\nZeige vollständige Veranstaltungsbeschreibung hier an:\nhttps://www.flowsphere.ch/de/event/advanced-safe-practice-consultant-20261026/
URL:https://www.flowsphere.ch/de/event/advanced-safe-practice-consultant-20261026/
LOCATION:Online Remote Training
CATEGORIES:ASPC Remote,Event Language,Event Language German,Remote-Trainings
ATTACH;FMTTYPE=image/png:https://www.flowsphere.ch/wp-content/uploads/2024/01/Stephan_Neck_Transp-Bg-LQ.png
ORGANIZER;CN="Flow Sphere":MAILTO:academy@flowsphere.ch
END:VEVENT
BEGIN:VEVENT
DTSTART;TZID=Europe/Berlin:20261109T083000
DTEND;TZID=Europe/Berlin:20261111T170000
DTSTAMP:20260421T121128
CREATED:20251023T101100Z
LAST-MODIFIED:20260302T151802Z
UID:10001498-1794213000-1794416400@www.flowsphere.ch
SUMMARY:Release Train Engineer (RTE)
DESCRIPTION:Release Train Engineer (<span class="caps">RTE</span>)\n\nTrainer: Frederik Zimmermann SPC\n\nZeige vollständige Veranstaltungsbeschreibung hier an:\nhttps://www.flowsphere.ch/de/event/safe-release-train-engineer-20261109/
URL:https://www.flowsphere.ch/de/event/safe-release-train-engineer-20261109/
LOCATION:Online Remote Training
CATEGORIES:Event Language,Event Language German,Remote-Trainings,RTE Remote
ATTACH;FMTTYPE=image/png:https://www.flowsphere.ch/wp-content/uploads/2024/03/Frederikl_Zimmermann_FS-Transp-Bg-LQ.png
ORGANIZER;CN="Flow Sphere":MAILTO:academy@flowsphere.ch
END:VEVENT
BEGIN:VEVENT
DTSTART;TZID=Europe/Zurich:20261116T083000
DTEND;TZID=Europe/Zurich:20261117T170000
DTSTAMP:20260421T121128
CREATED:20251023T103348Z
LAST-MODIFIED:20260312T163640Z
UID:10001500-1794817800-1794934800@www.flowsphere.ch
SUMMARY:Lean Portfolio Management (LPM)
DESCRIPTION:Lean Portfolio Management (<span class="caps">LPM</span>)\n\nTrainer: Frederik Zimmermann SPCT-C\n\nZeige vollständige Veranstaltungsbeschreibung hier an:\nhttps://www.flowsphere.ch/de/event/lean-portfolio-management-training-20261019/
URL:https://www.flowsphere.ch/de/event/lean-portfolio-management-training-20261019/
LOCATION:Online Remote Training
CATEGORIES:Event Language,Event Language German,LPM Remote,Remote-Trainings
ATTACH;FMTTYPE=image/png:https://www.flowsphere.ch/wp-content/uploads/2024/03/Frederikl_Zimmermann_FS-Transp-Bg-LQ.png
ORGANIZER;CN="Flow Sphere":MAILTO:academy@flowsphere.ch
END:VEVENT
BEGIN:VEVENT
DTSTART;TZID=Europe/Berlin:20261123T083000
DTEND;TZID=Europe/Berlin:20261124T170000
DTSTAMP:20260421T121128
CREATED:20251023T170257Z
LAST-MODIFIED:20260302T152722Z
UID:10001518-1795422600-1795539600@www.flowsphere.ch
SUMMARY:Product Owner / -Manager (POPM)
DESCRIPTION:Product Owner /​‑Manager (<span class="caps">POPM</span>)\n\nTrainer: Stephan Neck SPCT\n\nZeige vollständige Veranstaltungsbeschreibung hier an:\nhttps://www.flowsphere.ch/de/event/safe-popm-20261123/
URL:https://www.flowsphere.ch/de/event/safe-popm-20261123/
LOCATION:Online Remote Training
CATEGORIES:Event Language,Event Language German,POPM Remote,Remote-Trainings
ATTACH;FMTTYPE=image/png:https://www.flowsphere.ch/wp-content/uploads/2024/01/Stephan_Neck_Transp-Bg-LQ.png
ORGANIZER;CN="Flow Sphere":MAILTO:academy@flowsphere.ch
END:VEVENT
BEGIN:VEVENT
DTSTART;TZID=Europe/Berlin:20261130T083000
DTEND;TZID=Europe/Berlin:20261203T170000
DTSTAMP:20260421T121128
CREATED:20251023T125125Z
LAST-MODIFIED:20260302T151330Z
UID:10001508-1796027400-1796317200@www.flowsphere.ch
SUMMARY:Implementing SAFe (SPC)
DESCRIPTION:Implementing SAFe (<span class="caps">SPC</span>)\n\nTrainer: Stephan Neck SPCT Co-Trainer: Frederik Zimmermann SPC\n\nZeige vollständige Veranstaltungsbeschreibung hier an:\nhttps://www.flowsphere.ch/de/event/implementing-safe-training-20261130/
URL:https://www.flowsphere.ch/de/event/implementing-safe-training-20261130/
LOCATION:Online Remote Training
CATEGORIES:Event Featured Image large size,Event Language,Event Language German,Remote-Trainings,SPC Remote
ATTACH;FMTTYPE=image/png:https://www.flowsphere.ch/wp-content/uploads/2024/09/Stephan_Frederik_Transp-Bg-LQ.png
ORGANIZER;CN="Flow Sphere":MAILTO:academy@flowsphere.ch
END:VEVENT
BEGIN:VEVENT
DTSTART;TZID=Europe/Berlin:20261214T083000
DTEND;TZID=Europe/Berlin:20261215T170000
DTSTAMP:20260421T121128
CREATED:20251022T132718Z
LAST-MODIFIED:20260302T152259Z
UID:10001494-1797237000-1797354000@www.flowsphere.ch
SUMMARY:SAFe Scrum Master (SSM)
DESCRIPTION:SAFe Scrum Master (<span class="caps">SSM</span>)\n\nTrainer: Stephan Neck SPCT\n\nZeige vollständige Veranstaltungsbeschreibung hier an:\nhttps://www.flowsphere.ch/de/event/safe-scrum-master-20261214/
URL:https://www.flowsphere.ch/de/event/safe-scrum-master-20261214/
LOCATION:Online Remote Training
CATEGORIES:Event Language,Event Language German,Remote-Trainings,SSM Remote
ATTACH;FMTTYPE=image/png:https://www.flowsphere.ch/wp-content/uploads/2024/01/Stephan_Neck_Transp-Bg-LQ.png
ORGANIZER;CN="Flow Sphere":MAILTO:academy@flowsphere.ch
END:VEVENT
BEGIN:VEVENT
DTSTART;TZID=Europe/Zurich:20261214T083000
DTEND;TZID=Europe/Zurich:20261215T170000
DTSTAMP:20260421T121128
CREATED:20251023T155447Z
LAST-MODIFIED:20260302T153218Z
UID:10001515-1797237000-1797354000@www.flowsphere.ch
SUMMARY:Leading SAFe (SA)
DESCRIPTION:Leading SAFe (<span class="caps">SA</span>)\n\nTrainer: Frederik Zimmermann SPCT-C\n\nZeige vollständige Veranstaltungsbeschreibung hier an:\nhttps://www.flowsphere.ch/de/event/leading-safe-20261214/
URL:https://www.flowsphere.ch/de/event/leading-safe-20261214/
LOCATION:Online Remote Training
CATEGORIES:Event Language,Event Language German,Remote-Trainings,SA Remote
ATTACH;FMTTYPE=image/png:https://www.flowsphere.ch/wp-content/uploads/2024/03/Frederikl_Zimmermann_FS-Transp-Bg-LQ.png
ORGANIZER;CN="Flow Sphere":MAILTO:academy@flowsphere.ch
END:VEVENT
END:VCALENDAR